BEGIN:VCALENDAR
VERSION:2.0
PRODID:-//WLCAC - ECPv6.2.1//NONSGML v1.0//EN
CALSCALE:GREGORIAN
METHOD:PUBLISH
X-ORIGINAL-URL:https://wlcac.org
X-WR-CALDESC:Events for WLCAC
REFRESH-INTERVAL;VALUE=DURATION:PT1H
X-Robots-Tag:noindex
X-PUBLISHED-TTL:PT1H
BEGIN:VTIMEZONE
TZID:America/Los_Angeles
BEGIN:DAYLIGHT
TZOFFSETFROM:-0800
TZOFFSETTO:-0700
TZNAME:PDT
DTSTART:20230312T100000
END:DAYLIGHT
BEGIN:STANDARD
TZOFFSETFROM:-0700
TZOFFSETTO:-0800
TZNAME:PST
DTSTART:20231105T090000
END:STANDARD
END:VTIMEZONE
BEGIN:VEVENT
DTSTART;TZID=America/Los_Angeles:20230915T010000
DTEND;TZID=America/Los_Angeles:20230915T100000
DTSTAMP:20260421T045355
CREATED:20230906T103033Z
LAST-MODIFIED:20230906T103122Z
UID:4385-1694739600-1694772000@wlcac.org
SUMMARY:Outdoor Festival
DESCRIPTION:Outdoor Festival
URL:https://wlcac.org/events/outdoor-festival/
CATEGORIES:Seniors Services
END:VEVENT
END:VCALENDAR